BEGIN:VCALENDAR
VERSION:2.0
PRODID:-//Autism Society of Iowa - ECPv6.10.2//NONSGML v1.0//EN
CALSCALE:GREGORIAN
METHOD:PUBLISH
X-ORIGINAL-URL:https://autismia.com
X-WR-CALDESC:Events for Autism Society of Iowa
REFRESH-INTERVAL;VALUE=DURATION:PT1H
X-Robots-Tag:noindex
X-PUBLISHED-TTL:PT1H
BEGIN:VTIMEZONE
TZID:UTC
BEGIN:STANDARD
TZOFFSETFROM:+0000
TZOFFSETTO:+0000
TZNAME:UTC
DTSTART:20220101T000000
END:STANDARD
END:VTIMEZONE
BEGIN:VEVENT
DTSTART;TZID=UTC:20220120T110000
DTEND;TZID=UTC:20220120T123000
DTSTAMP:20260425T181802
CREATED:20210526T222828Z
LAST-MODIFIED:20220118T194002Z
UID:4099-1642676400-1642681800@autismia.com
SUMMARY:2022 Autism Advocacy and Acceptance Virtual Day on the Hill
DESCRIPTION:Click here to register! \n  \nDue to COVID-19 restrictions and for the safety of our members\, attendees\, and staff\, the 12th Annual Autism Advocacy and Acceptance Day will be held virtually via Zoom on Thursday\, January 20\, from 11 am – 12:30 pm. This will replace our annual Day on the Hill event at the Iowa State Capitol.
URL:https://autismia.com/event/2022-autism-society-of-iowa-day-on-the-hill/
CATEGORIES:Advocacy
END:VEVENT
END:VCALENDAR