BEGIN:VCALENDAR
VERSION:2.0
PRODID:-//Autism Society of Iowa - ECPv6.10.2//NONSGML v1.0//EN
CALSCALE:GREGORIAN
METHOD:PUBLISH
X-ORIGINAL-URL:https://autismia.com
X-WR-CALDESC:Events for Autism Society of Iowa
REFRESH-INTERVAL;VALUE=DURATION:PT1H
X-Robots-Tag:noindex
X-PUBLISHED-TTL:PT1H
BEGIN:VTIMEZONE
TZID:America/Chicago
BEGIN:DAYLIGHT
TZOFFSETFROM:-0600
TZOFFSETTO:-0500
TZNAME:CDT
DTSTART:20250309T080000
END:DAYLIGHT
BEGIN:STANDARD
TZOFFSETFROM:-0500
TZOFFSETTO:-0600
TZNAME:CST
DTSTART:20251102T070000
END:STANDARD
END:VTIMEZONE
BEGIN:VEVENT
DTSTART;TZID=America/Chicago:20250125T100000
DTEND;TZID=America/Chicago:20250125T120000
DTSTAMP:20260425T063045
CREATED:20241213T192106Z
LAST-MODIFIED:20241217T150736Z
UID:5294-1737799200-1737806400@autismia.com
SUMMARY:Sensory-Friendly Showing- Frozen
DESCRIPTION:Click here to register!\nJoin us for a FREE sensory-friendly showing of ‘Frozen’! Thanks to the generous support of the BWA Foundation\, each attendee will also receive a free small popcorn and medium drink!
URL:https://autismia.com/event/sensory-friendly-showing-frozen/
LOCATION:The Varsity Cinema\, 1207 25th Street\, Des Moines\, IA\, 50311\, United States
CATEGORIES:Sensory Friendly Movie
END:VEVENT
END:VCALENDAR