BEGIN:VCALENDAR
VERSION:2.0
PRODID:-//Autism Society of Iowa - ECPv6.10.2//NONSGML v1.0//EN
CALSCALE:GREGORIAN
METHOD:PUBLISH
X-ORIGINAL-URL:https://autismia.com
X-WR-CALDESC:Events for Autism Society of Iowa
REFRESH-INTERVAL;VALUE=DURATION:PT1H
X-Robots-Tag:noindex
X-PUBLISHED-TTL:PT1H
BEGIN:VTIMEZONE
TZID:America/Chicago
BEGIN:DAYLIGHT
TZOFFSETFROM:-0600
TZOFFSETTO:-0500
TZNAME:CDT
DTSTART:20260308T080000
END:DAYLIGHT
BEGIN:STANDARD
TZOFFSETFROM:-0500
TZOFFSETTO:-0600
TZNAME:CST
DTSTART:20261101T070000
END:STANDARD
END:VTIMEZONE
BEGIN:VEVENT
DTSTART;TZID=America/Chicago:20260326T183000
DTEND;TZID=America/Chicago:20260326T203000
DTSTAMP:20260424T065750
CREATED:20260309T201808Z
LAST-MODIFIED:20260309T201808Z
UID:6362-1774549800-1774557000@autismia.com
SUMMARY:Iowa Disability Film Festival: The Stimming Pool
DESCRIPTION:Join us at the Iowa Disability Film Festival and their presentation of “The Stimming Pool”. Co-created by the Neurocultures Collective (Sam Chown-Ahern\, Georgia Bradburn\, Benjamin Brown\, Robin Elliott-Knowles\, Lucy Walker) and artist-filmmaker Steven Eastwood\, The Stimming Pool is an experimental and sometimes magical hybrid film whose drifting form is built around the concept of an autistic camera. \n\nFrom 4pm – 6pm on Thursday\, the public is invited to attend the Disability Community Social at fix! coffee. The social aims to encourage conversation and create a gathering space for members of the disability community. \n\nAdmission is pay what you can! \nHead to https://icfilmscene.org/film/the-stimming-pool/ for more information and to reserve your seats.
URL:https://autismia.com/event/iowa-disability-film-festival-the-stimming-pool/
LOCATION:FilmScene at the Chauncey\, 404 E. College St\, Iowa City\, IA\, United States
CATEGORIES:Sensory Friendly Movie
END:VEVENT
END:VCALENDAR