BEGIN:VCALENDAR
VERSION:2.0
PRODID:-//Autism Society of Iowa - ECPv6.10.2//NONSGML v1.0//EN
CALSCALE:GREGORIAN
METHOD:PUBLISH
X-ORIGINAL-URL:https://autismia.com
X-WR-CALDESC:Events for Autism Society of Iowa
REFRESH-INTERVAL;VALUE=DURATION:PT1H
X-Robots-Tag:noindex
X-PUBLISHED-TTL:PT1H
BEGIN:VTIMEZONE
TZID:America/Chicago
BEGIN:DAYLIGHT
TZOFFSETFROM:-0600
TZOFFSETTO:-0500
TZNAME:CDT
DTSTART:20240310T080000
END:DAYLIGHT
BEGIN:STANDARD
TZOFFSETFROM:-0500
TZOFFSETTO:-0600
TZNAME:CST
DTSTART:20241103T070000
END:STANDARD
END:VTIMEZONE
BEGIN:VEVENT
DTSTART;TZID=America/Chicago:20240403T120000
DTEND;TZID=America/Chicago:20240403T130000
DTSTAMP:20260424T061043
CREATED:20240207T190350Z
LAST-MODIFIED:20240207T190350Z
UID:4972-1712145600-1712149200@autismia.com
SUMMARY:April 3 Lunch and Learn- Iowa Vocational Rehabilitation Services
DESCRIPTION:Click here to register. \nRegister today for the “Iowa Vocational Rehabilitation Services” Lunch and Learn being held on Wednesday\, April 3\, via Zoom. \nPresenters: Dr. James Williams\, CRC\, ACAS\, Division Administrator\, and Brandy McOmber\, Progam Manager
URL:https://autismia.com/event/april-3-lunch-and-learn-iowa-vocational-rehabilitation-services/
CATEGORIES:Education
END:VEVENT
BEGIN:VEVENT
DTSTART;TZID=America/Chicago:20240405T084500
DTEND;TZID=America/Chicago:20240405T153000
DTSTAMP:20260424T061043
CREATED:20240308T171906Z
LAST-MODIFIED:20240313T215809Z
UID:5000-1712306700-1712331000@autismia.com
SUMMARY:Autism & Communication Conference
DESCRIPTION:Click here to register. \nAutism Society of Iowa (ASI) and Meadowlark Psychiatric Services are hosting a 1- day virtual conference on Friday\, April 5\, 2024\, focusing on Autism and communication. \n  \n  \nAgenda \n8:45 a.m.– Welcome \n8:50 a.m. – Communication Across the Lifespan: Supporting Autistic Individuals’ Access and Participation presented by Jenny Brodell\, M.A.\, CCC-SLP \nObjectives: \n\nIdentify three core communication areas to support across the lifespan in Autistic individuals.\nExplain one supporting strategy to build skills in each core communication area.\nDescribe two ways to build person and family centered goals within core communication area.\n\n10:00 a.m. – Break \n10:15 a.m. – Functional Communication Training: Treating Challenging Behavior by Promoting Communication presented by Matt O’Brien\, Ph.D.\, BCBA \nObjectives: \n\nUnderstand how challenging behavior is learned and serves as communication\nLearn the steps involved in developing and implementing functional communication training\nAppraise the research support for functional communication training.\n\n11:15 a.m. – Break \n11:30 a.m. – AAC Devices presented by Krista Davidson\, M.A.\, CCC-SLP \n\nParticipants will be able to identify low-tech and high-tech augmentative and alternative communication (AAC) systems.\nParticipants will be able to describe the general AAC evaluation and funding process.\nParticipants will be able to summarize common misconceptions associated with AAC.\n\n12:30 p.m. – Lunch Break \n1:15 p.m. – Social Communication and Supports for Adolescents with Autism presented by Audrey Wood\, M.A.\, CCC-SLP \nObjectives: \n\nAttendees will understand a brief history of interventions for adolescents with social skill differences and reasons to consider supporting social communication development for adolescents with Autism\nAttendees will describe effective and evidence-based strategies for supporting social communication development for autistic adolescents that can be implemented by professionals\, educators\, or parents and caregivers\nAttendees will be able to identify available interventions and resources for those interested in further social skill support.\n\n2:15 p.m.– Break \n2:30 p.m. –  Let’s talk about work – tips for communicating and accommodations for communicating at work.” with Judith Warth. \nLearning objectives: Participants will: \n\nRecognize the importance of communication at work.\nIdentify strategies for helping others (co-workers/supervisor) learn some tricks to effectively communicate with the Autistic worker.\nLearn about resources to help troubleshoot issues.\n\n3:30 p.m. – Adjourn \n  \n  \nSpeakers \nJenny Brodell\, M.A.\, CCC-SLP is a speech-language pathologist and Clinical Assistant Professor at the University of Iowa in the Department of Communication Sciences and Disorders. She also holds an appointment at the University of Iowa Hospitals and Clinics where she participates in interdisciplinary Autism diagnostic evaluations. Jenny has extensive experience working with families and individuals in the area of Autism and pediatrics. \n  \nKrista Davidson\, M.A.\, CCC-SLP is a speech-language pathologist and clinical associate professor in the Department of Communication Sciences and Disorders at The University of Iowa. She specializes in the education and supervision of graduate student clinicians in the treatment and evaluation of clients with augmentative and alternative communication (AAC) needs across the lifespan. \n  \nMatthew O’Brien\, Ph.D.\, BCBA is an Associate Professor of Pediatrics at University of Iowa Stead Family Children’s Hospital. He completed his doctorate in Psychological and Quantitative Foundations from the University of Iowa and completed postdoctoral fellowships in neuropsychology and behavioral psychology at the University of Iowa Hospitals and Clinics. Dr. O’Brien serves as the Director of Biobehavioral Services and Director of Research and Psychology for the Iowa LEND program. He has received funding from the National Institutes of Health since 2015 for research related to severe and challenging behavior and communication. Dr. O’Brien conducts research related to functional analysis of severe and challenging behavior for individuals with Autism and other neurodevelopmental disorders. Matthew is an active member of the Autism Society of Iowa Board\, assisting annually with the Autism Advocacy and Acceptance Day at the Iowa State Capitol. \n  \nJudy Warth\, BBA\, CESP is a Program Manager and Employment Training Specialist at Iowa’s University Center for Excellent in Developmental Disabilities (UCEDD) at the University of Iowa. Coming to the University in 1994\, Warth combines over 30 years of supporting people with disabilities to meet labor needs of Colorado\, Illinois\, and Iowa businesses. Some areas of emphasis include transition from school to work\, job coaching and job coach development\, person-centered services\, employer relationship building & job development\, self-advocacy training\, and staff development and technical assistance to community rehabilitation & transition programs. Current projects include working as part of the Iowa Blueprint for Change Project with the Iowa Division of Vocational Rehabilitation Services\, providing 4+ programming and work experience support to the Iowa City Community School District\, staffing the CDD Transition Clinic and providing training on employment related topics to community rehabilitation programs. \n  \nAudrey Wood\, M.A.\, CCC-SLP is a Speech Language Pathologist at the University of Iowa Stead Family Children’s Hospital Center for Disabilities and Development (CDD). She received her BA and MA at the University of Iowa and is an Iowa Leadership Education in Neurodevelopmental and Related Disabilities (ILEND) program graduate. She has extensive experience working with children and adults with a variety of communication needs including Autism\, speech and language disorders\, and augmentative and alternative communication. She is a PEERS® Certified provider and Girls Night Out (GNO©) certified provider and has led several PEERS social skills groups for adolescents and young adults\, in addition to frequently providing individualized therapy supporting social communication development. \n  \n 
URL:https://autismia.com/event/autism-communication-conference/
CATEGORIES:Education
END:VEVENT
BEGIN:VEVENT
DTSTART;TZID=America/Chicago:20240410T120000
DTEND;TZID=America/Chicago:20240410T130000
DTSTAMP:20260424T061043
CREATED:20240207T190626Z
LAST-MODIFIED:20240207T190626Z
UID:4976-1712750400-1712754000@autismia.com
SUMMARY:April 10 Lunch and Learn- Internet Safety and Awareness on the Spectrum
DESCRIPTION:Click here to register. \nRegister today for the “Internet Safety and Awareness on the Spectrum” Lunch and Learn being held on Wednesday\, April 10\, via Zoom. \nPresenter: Dr. Suzanne Richards\, Ph.D.
URL:https://autismia.com/event/april-10-lunch-and-learn-internet-safety-and-awareness-on-the-spectrum/
CATEGORIES:Education
END:VEVENT
BEGIN:VEVENT
DTSTART;TZID=America/Chicago:20240417T120000
DTEND;TZID=America/Chicago:20240417T130000
DTSTAMP:20260424T061043
CREATED:20240207T190840Z
LAST-MODIFIED:20240207T190840Z
UID:4979-1713355200-1713358800@autismia.com
SUMMARY:April 17 Lunch and Learn- Common Interventions for Autism Spectrum Disorders
DESCRIPTION:Click here to register. \nRegister today for the “Common Interventions for Autism Spectrum Disorders” Lunch and Learn being held on Wednesday\, April 17\, via Zoom. \nPresenters: Leslie Rogers\, M.S.\, CCC-SLP and Kristin Hanson\, M.A.\, BCBA\, LBA
URL:https://autismia.com/event/april-17-lunch-and-learn-common-interventions-for-autism-spectrum-disorders/
CATEGORIES:Education
END:VEVENT
BEGIN:VEVENT
DTSTART;TZID=America/Chicago:20240424T120000
DTEND;TZID=America/Chicago:20240424T130000
DTSTAMP:20260424T061043
CREATED:20240207T191059Z
LAST-MODIFIED:20240207T191059Z
UID:4982-1713960000-1713963600@autismia.com
SUMMARY:April 24 Lunch and Learn- Supporting Siblings
DESCRIPTION:Click here to register. \nRegister today for the “Supporting Siblings” Lunch and Learn being held on Wednesday\, April 24\, via Zoom. \nPresenters: Ann Spaine\, MS and Mary Chadwick
URL:https://autismia.com/event/april-24-lunch-and-learn-supporting-siblings/
CATEGORIES:Education
END:VEVENT
END:VCALENDAR