BEGIN:VCALENDAR
VERSION:2.0
PRODID:-//Autism Society of Iowa - ECPv6.10.2//NONSGML v1.0//EN
CALSCALE:GREGORIAN
METHOD:PUBLISH
X-WR-CALNAME:Autism Society of Iowa
X-ORIGINAL-URL:https://autismia.com
X-WR-CALDESC:Events for Autism Society of Iowa
REFRESH-INTERVAL;VALUE=DURATION:PT1H
X-Robots-Tag:noindex
X-PUBLISHED-TTL:PT1H
BEGIN:VTIMEZONE
TZID:America/Chicago
BEGIN:DAYLIGHT
TZOFFSETFROM:-0600
TZOFFSETTO:-0500
TZNAME:CDT
DTSTART:20240310T080000
END:DAYLIGHT
BEGIN:STANDARD
TZOFFSETFROM:-0500
TZOFFSETTO:-0600
TZNAME:CST
DTSTART:20241103T070000
END:STANDARD
END:VTIMEZONE
BEGIN:VEVENT
DTSTART;TZID=America/Chicago:20240921T100000
DTEND;TZID=America/Chicago:20240921T120000
DTSTAMP:20260423T210107
CREATED:20240911T151048Z
LAST-MODIFIED:20240919T142209Z
UID:5175-1726912800-1726920000@autismia.com
SUMMARY:Sensory Friendly Showing of "Toy Story"
DESCRIPTION:To register\, click here.  \nClick here for a social story to help make your visit to Varsity Cinema a success for your loved one! \n\n \nJoin us on Saturday\, September 21\, at 10:00 a.m. for a Sensory-Friendly showing of Toy Story at Varsity Cinema in Des Moines. Thanks to the generous support of the BWA Foundation\, this event is free for all attendees! A small popcorn and medium drink will also be provided free for each attendee.
URL:https://autismia.com/event/sensory-friendly-showing-of-toy-story/
LOCATION:The Varsity Cinema\, 1207 25th Street\, Des Moines\, IA\, 50311\, United States
CATEGORIES:Sensory Friendly Movie
END:VEVENT
END:VCALENDAR