BEGIN:VCALENDAR
VERSION:2.0
PRODID:-//Autism Society of Iowa - ECPv6.10.2//NONSGML v1.0//EN
CALSCALE:GREGORIAN
METHOD:PUBLISH
X-WR-CALNAME:Autism Society of Iowa
X-ORIGINAL-URL:https://autismia.com
X-WR-CALDESC:Events for Autism Society of Iowa
REFRESH-INTERVAL;VALUE=DURATION:PT1H
X-Robots-Tag:noindex
X-PUBLISHED-TTL:PT1H
BEGIN:VTIMEZONE
TZID:UTC
BEGIN:STANDARD
TZOFFSETFROM:+0000
TZOFFSETTO:+0000
TZNAME:UTC
DTSTART:20200101T000000
END:STANDARD
END:VTIMEZONE
BEGIN:VEVENT
DTSTART;TZID=UTC:20200208T103000
DTEND;TZID=UTC:20200208T120000
DTSTAMP:20260425T233203
CREATED:20200106T215801Z
LAST-MODIFIED:20200106T220456Z
UID:3565-1581157800-1581163200@autismia.com
SUMMARY:SPLASH for Autism- Iowa City
DESCRIPTION:Join us on Saturday\, February 8\, at the University of Iowa Recreation Pool in Iowa City for a SPLASH for Autism event.  \nFor printable event flyer\, click here. \nThe Autism Society of Iowa SPLASH for Autism program allows individuals with autism\, their families and caregivers the opportunity to swim without many of the distractions of a typical swimming environment\, such as whistles\, music and excessive noise. ALL individuals with autism and their families/caregivers are invited to swim FREE of CHARGE! All children must be accompanied by an adult. \n \nTo expand the reach of our SPLASH for Autism program throughout 2020\, The Autism Society of Iowa has received a $4843.00 grant from Variety – The Children’s Charity. \nThe Variety grant will be used to rent pools to provide a safe\, sensory friendly pool event for those with autism who enjoy water\, along with their families and care givers\, but who cannot attend a public pool when it is open to the public. \nVariety\, the Children’s Charity is dedicated to improving the lives of children who are at-risk\, underprivileged\, critically ill or living with special needs.  Grant funding is provided to programs and initiatives that directly impact the well-being of children.  For more information on Variety grants and programs please visit varietyiowa.com. \nFor the full press release\, click here.
URL:https://autismia.com/event/splash-for-autism-iowa-city/
LOCATION:University of Iowa Recreation Pool\, 309 S. Madison Street\, Iowa City\, IA\, 52242\, United States
CATEGORIES:SPLASH/Swim
END:VEVENT
BEGIN:VEVENT
DTSTART;TZID=UTC:20200216T151500
DTEND;TZID=UTC:20200216T170000
DTSTAMP:20260425T233203
CREATED:20191218T220018Z
LAST-MODIFIED:20191227T004015Z
UID:3525-1581866100-1581872400@autismia.com
SUMMARY:SPLASH for Autism- Johnston
DESCRIPTION:CLICK HERE TO REGISTER FOR FEBRUARY 16 EVENT! \n  \nJoin us on Sunday\, February 16\, at ChildServe in Johnston for a SPLASH for Autism event. Registration and signed waiver required. 25 person max per event. \nPrintable Event Flyer \nChildServe- AQUATIC RELEASE FORM-ADULT \nChildServe- AQUATIC RELEASE FORM-MINOR \nThe Autism Society of Iowa SPLASH for Autism program allows individuals with autism\, their families and caregivers the opportunity to swim without many of the distractions of a typical swimming environment\, such as whistles\, music and excessive noise. ALL individuals with autism and their families/caregivers are invited to swim FREE of CHARGE! All children must be accompanied by an adult. \n \nTo expand the reach of our SPLASH for Autism program throughout 2020\, The Autism Society of Iowa has received a $4843.00 grant from Variety – The Children’s Charity. \nThe Variety grant will be used to rent pools to provide a safe\, sensory friendly pool event for those with autism who enjoy water\, along with their families and care givers\, but who cannot attend a public pool when it is open to the public. \nVariety\, the Children’s Charity is dedicated to improving the lives of children who are at-risk\, underprivileged\, critically ill or living with special needs.  Grant funding is provided to programs and initiatives that directly impact the well-being of children.  For more information on Variety grants and programs please visit varietyiowa.com. \nFor the full press release\, click here.
URL:https://autismia.com/event/splash-for-autism-johnston-2/
LOCATION:ChildServe\, 5406 Merle Hay Road\, Johnston\, IA\, 50131\, United States
CATEGORIES:Outdoor/Recreation,SPLASH/Swim
END:VEVENT
END:VCALENDAR