BEGIN:VCALENDAR
VERSION:2.0
PRODID:-//Autism Society of Iowa - ECPv6.10.2//NONSGML v1.0//EN
CALSCALE:GREGORIAN
METHOD:PUBLISH
X-ORIGINAL-URL:https://autismia.com
X-WR-CALDESC:Events for Autism Society of Iowa
REFRESH-INTERVAL;VALUE=DURATION:PT1H
X-Robots-Tag:noindex
X-PUBLISHED-TTL:PT1H
BEGIN:VTIMEZONE
TZID:UTC
BEGIN:STANDARD
TZOFFSETFROM:+0000
TZOFFSETTO:+0000
TZNAME:UTC
DTSTART:20200101T000000
END:STANDARD
END:VTIMEZONE
BEGIN:VEVENT
DTSTART;TZID=UTC:20200308T151500
DTEND;TZID=UTC:20200308T170000
DTSTAMP:20260425T214427
CREATED:20191218T220241Z
LAST-MODIFIED:20191227T003833Z
UID:3527-1583680500-1583686800@autismia.com
SUMMARY:SPLASH for Autism- Johnston
DESCRIPTION:CLICK HERE TO REGISTER FOR MARCH 8 EVENT! \n  \nJoin us on Sunday\, March 8\, at ChildServe in Johnston for a SPLASH for Autism event. Registration and signed waiver required. 25 person max per event. \nPrintable Event Flyer \nChildServe- AQUATIC RELEASE FORM-ADULT \nChildServe- AQUATIC RELEASE FORM-MINOR \nThe Autism Society of Iowa SPLASH for Autism program allows individuals with autism\, their families and caregivers the opportunity to swim without many of the distractions of a typical swimming environment\, such as whistles\, music and excessive noise. ALL individuals with autism and their families/caregivers are invited to swim FREE of CHARGE! All children must be accompanied by an adult. \n \nTo expand the reach of our SPLASH for Autism program throughout 2020\, The Autism Society of Iowa has received a $4843.00 grant from Variety – The Children’s Charity. \nThe Variety grant will be used to rent pools to provide a safe\, sensory friendly pool event for those with autism who enjoy water\, along with their families and care givers\, but who cannot attend a public pool when it is open to the public. \nVariety\, the Children’s Charity is dedicated to improving the lives of children who are at-risk\, underprivileged\, critically ill or living with special needs.  Grant funding is provided to programs and initiatives that directly impact the well-being of children.  For more information on Variety grants and programs please visit varietyiowa.com. \nFor the full press release\, click here.
URL:https://autismia.com/event/splash-for-autism-johnston-3/
LOCATION:ChildServe\, 5406 Merle Hay Road\, Johnston\, IA\, 50131\, United States
CATEGORIES:Outdoor/Recreation,SPLASH/Swim
END:VEVENT
END:VCALENDAR